BEGIN:VCALENDAR
VERSION:2.0
PRODID:-//Squarespace Inc/Squarespace 6//v6//EN
BEGIN:VEVENT
UID:5bd034f34785d3c856c1f56a@squarespace.com
DTSTAMP:20181024T090204Z
DTSTART:20181104T030000Z
DTEND:20181104T033000Z
SUMMARY:Open Home - 1/131 Langdales Road\, West Melton
GEO:-43.510283;172.406392
LOCATION:1/131 Langdales Road\, West Melton\, Canterbury\, 7676\, New Zeala
 nd
END:VEVENT
END:VCALENDAR
