BEGIN:VCALENDAR
VERSION:2.0
PRODID:-//Squarespace Inc/Squarespace 6//v6//EN
BEGIN:VEVENT
UID:5bd02df39140b7dc42c17817@squarespace.com
DTSTAMP:20181024T090139Z
DTSTART:20181028T021500Z
DTEND:20181028T024500Z
SUMMARY:Open Home - 1/131 Langdales Road\, West Melton
GEO:-43.510283;172.406392
LOCATION:1/131 Langdales Road\, West Melton\, Canterbury\, 7676\, New Zeala
 nd
END:VEVENT
END:VCALENDAR
