BEGIN:VCALENDAR
VERSION:2.0
PRODID:-//Squarespace Inc/Squarespace 6//v6//EN
BEGIN:VEVENT
UID:5be8a290cd8366853da6051a@squarespace.com
DTSTAMP:20181111T214417Z
DTSTART:20181110T231500Z
DTEND:20181110T234500Z
SUMMARY:Open Home - 1/1319 Old West Coast Road\, West Melton
GEO:-43.539956;172.611919
LOCATION:1319 Old West Coast Road\, West Melton\, Canterbury\, 7671\, New Z
 ealand
END:VEVENT
END:VCALENDAR
