BEGIN:VCALENDAR
VERSION:2.0
PRODID:-//Squarespace Inc/Squarespace 6//v6//EN
BEGIN:VEVENT
UID:5bd03cad53450a0889c7f978@squarespace.com
DTSTAMP:20181024T093515Z
DTSTART:20181104T020000Z
DTEND:20181104T023000Z
SUMMARY:Open Home - 1/1319 Old West Coast Road\, West Melton
GEO:-43.539956;172.611919
LOCATION:1319 Old West Coast Road\, West Melton\, Canterbury\, 7671\, New Z
 ealand
END:VEVENT
END:VCALENDAR
