BEGIN:VCALENDAR
VERSION:2.0
PRODID:-//Squarespace Inc/Squarespace 6//v6//EN
BEGIN:VEVENT
UID:5bd03c86f4e1fc2e8244629e@squarespace.com
DTSTAMP:20181024T093428Z
DTSTART:20181028T011500Z
DTEND:20181028T014500Z
SUMMARY:Open Home - 1/1319 Old West Coast Road\, West Melton
GEO:-43.539956;172.611919
LOCATION:1319 Old West Coast Road\, West Melton\, Canterbury\, 7671\, New Z
 ealand
END:VEVENT
END:VCALENDAR
