BEGIN:VCALENDAR
VERSION:2.0
PRODID:-//Squarespace Inc/Squarespace 6//v6//EN
BEGIN:VEVENT
UID:5bd03bf2e5e5f0ae9de93203@squarespace.com
DTSTAMP:20181024T093146Z
DTSTART:20181104T013000Z
DTEND:20181104T020000Z
SUMMARY:Open Home - 108 Straven Road\, Fendalton
GEO:-43.522379;172.601794
LOCATION:108 Straven Road\, Christchurch\, Canterbury\, 8014\, New Zealand
END:VEVENT
END:VCALENDAR
