BEGIN:VCALENDAR
VERSION:2.0
PRODID:-//Squarespace Inc/Squarespace 6//v6//EN
BEGIN:VEVENT
UID:5bd03bb224a69454243e681e@squarespace.com
DTSTAMP:20181024T093047Z
DTSTART:20181028T013000Z
DTEND:20181028T020000Z
SUMMARY:Open Home - 108 Straven Road\, Fendalton
GEO:-43.522379;172.601794
LOCATION:108 Straven Road\, Christchurch\, Canterbury\, 8014\, New Zealand
END:VEVENT
END:VCALENDAR
