BEGIN:VCALENDAR
VERSION:2.0
PRODID:-//Squarespace Inc/Squarespace 6//v6//EN
BEGIN:VEVENT
UID:5bd03bd9c830256995acefe7@squarespace.com
DTSTAMP:20181024T093117Z
DTSTART:20181101T010000Z
DTEND:20181101T013000Z
SUMMARY:Open Home - 108 Straven Road\, Fendalton
GEO:-43.522379;172.601794
LOCATION:108 Straven Road\, Christchurch\, Canterbury\, 8014\, New Zealand
END:VEVENT
END:VCALENDAR
