BEGIN:VCALENDAR
VERSION:2.0
PRODID:-//Squarespace Inc/Squarespace 6//v6//EN
BEGIN:VEVENT
UID:5b63eaed2b6a28fa9a3f469f@squarespace.com
DTSTAMP:20180803T054111Z
DTSTART:20180805T010000Z
DTEND:20180805T013000Z
SUMMARY:Open Home - 1/1319 Old West Coast Road\, West Melton
GEO:-43.539956;172.611919
LOCATION:1319 Old West Coast Road\, West Melton\, Canterbury\, 7671\, New Z
 ealand
END:VEVENT
END:VCALENDAR
