BEGIN:VCALENDAR
VERSION:2.0
PRODID:-//Squarespace Inc/Squarespace 6//v6//EN
BEGIN:VEVENT
UID:5ab038a52b6a28f49887b0f0@squarespace.com
DTSTAMP:20180319T223319Z
DTSTART:20180324T230000Z
DTEND:20180324T233000Z
SUMMARY:Open Home - 3/43 Northcote Road\, Northcote
GEO:-43.484412;172.611385
LOCATION:3/43 Northcote Road\, Christchurch\, Canterbury\, 8052\, New Zeala
 nd
END:VEVENT
END:VCALENDAR
