BEGIN:VCALENDAR
VERSION:2.0
PRODID:-//Squarespace Inc/Squarespace 6//v6//EN
BEGIN:VEVENT
UID:5ab037bdf950b73eb9baf50d@squarespace.com
DTSTAMP:20180319T223331Z
DTSTART:20180324T220000Z
DTEND:20180324T223000Z
SUMMARY:Open Home - 31 O'Connor Place\, Burnside
GEO:-43.496371;172.560358
LOCATION:31 O'Connor Place\, Christchurch\, Canterbury\, 8053\, New Zealand
END:VEVENT
END:VCALENDAR
