BEGIN:VCALENDAR
VERSION:2.0
PRODID:-//Squarespace Inc/Squarespace 6//v6//EN
BEGIN:VEVENT
UID:5aa201daf9619afb7ec84947@squarespace.com
DTSTAMP:20180319T235916Z
DTSTART:20180320T220000Z
DTEND:20180320T223000Z
SUMMARY:Open Home - 31 O'Connor Place\, Burnside
GEO:-43.496371;172.560358
LOCATION:31 O'Connor Place\, Christchurch\, Canterbury\, 8053\, New Zealand
END:VEVENT
END:VCALENDAR
