BEGIN:VCALENDAR
VERSION:2.0
PRODID:-//Squarespace Inc/Squarespace 6//v6//EN
BEGIN:VEVENT
UID:5bdcf0a34d7a9c17224f034c@squarespace.com
DTSTAMP:20181103T005020Z
DTSTART:20181111T010000Z
DTEND:20181111T013000Z
SUMMARY:Open Home - 4 Jacqueline Drive\, West Melton
GEO:-43.539956;172.611919
LOCATION:4 Jacqueline Drive\, West Melton\, Canterbury\, 7671\, New Zealand
END:VEVENT
END:VCALENDAR
