BEGIN:VCALENDAR
VERSION:2.0
PRODID:-//Squarespace Inc/Squarespace 6//v6//EN
BEGIN:VEVENT
UID:5bdcf025352f53417a068489@squarespace.com
DTSTAMP:20181103T004939Z
DTSTART:20181104T010000Z
DTEND:20181104T013000Z
SUMMARY:Open Home - 4 Jacqueline Drive\, West Melton
GEO:-43.539956;172.611919
LOCATION:4 Jacqueline Drive\, West Melton\, Canterbury\, 7671\, New Zealand
END:VEVENT
END:VCALENDAR
