BEGIN:VCALENDAR
VERSION:2.0
PRODID:-//Squarespace Inc/Squarespace 6//v6//EN
BEGIN:VEVENT
UID:5be8a1ae0e2e721437a9ea53@squarespace.com
DTSTAMP:20181111T214205Z
DTSTART:20181114T021500Z
DTEND:20181114T024500Z
SUMMARY:Open Home - 50 Mansfield Avenue\, Merivale
GEO:-43.514701;172.365417
LOCATION:50 Mansfield Avenue\, Christchurch\, Canterbury\, 8014\, New Zeala
 nd
END:VEVENT
END:VCALENDAR
