BEGIN:VCALENDAR
VERSION:2.0
PRODID:-//Squarespace Inc/Squarespace 6//v6//EN
BEGIN:VEVENT
UID:5bd02ebaf9619a14c84deabd@squarespace.com
DTSTAMP:20181111T213943Z
DTSTART:20181111T033000Z
DTEND:20181111T040000Z
SUMMARY:Open Home - 50 Mansfield Avenue\, Merivale
GEO:-43.514701;172.365417
LOCATION:50 Mansfield Avenue\, Christchurch\, Canterbury\, 8014\, New Zeala
 nd
END:VEVENT
END:VCALENDAR
