BEGIN:VCALENDAR
VERSION:2.0
PRODID:-//Squarespace Inc/Squarespace 6//v6//EN
BEGIN:VEVENT
UID:5bd02e644192020c0c4bf7aa@squarespace.com
DTSTAMP:20181024T083353Z
DTSTART:20181030T224500Z
DTEND:20181030T231500Z
SUMMARY:Open Home - 50 Mansfield Avenue\, Merivale
GEO:-43.514701;172.365417
LOCATION:50 Mansfield Avenue\, Christchurch\, Canterbury\, 8014\, New Zeala
 nd
END:VEVENT
END:VCALENDAR
