BEGIN:VCALENDAR
VERSION:2.0
PRODID:-//Squarespace Inc/Squarespace 6//v6//EN
BEGIN:VEVENT
UID:5bd02f1608522908f0350233@squarespace.com
DTSTAMP:20181024T083647Z
DTSTART:20181111T001500Z
DTEND:20181111T004500Z
SUMMARY:Open Home - 6 Jacks Drive\, West Melton
GEO:-43.514701;172.365417
LOCATION:6 Jacks Drive\, West Melton\, Canterbury\, 7671\, New Zealand
END:VEVENT
END:VCALENDAR
