BEGIN:VCALENDAR
VERSION:2.0
PRODID:-//Squarespace Inc/Squarespace 6//v6//EN
BEGIN:VEVENT
UID:5bd033919140b7dc42c19d56@squarespace.com
DTSTAMP:20181024T085559Z
DTSTART:20181101T030000Z
DTEND:20181101T063000Z
SUMMARY:Open Home - Verdeco Park\, Lincoln
GEO:-43.651585;172.469351
LOCATION:1472 Springs Road\, Lincoln\, Canterbury\, 7674\, New Zealand
END:VEVENT
END:VCALENDAR
