BEGIN:VCALENDAR
VERSION:2.0
PRODID:-//Squarespace Inc/Squarespace 6//v6//EN
BEGIN:VEVENT
UID:5bd02f4f4785d3c856c1d18f@squarespace.com
DTSTAMP:20181024T085545Z
DTSTART:20181031T030000Z
DTEND:20181031T063000Z
SUMMARY:Open Home - Verdeco Park\, Lincoln
GEO:-43.651585;172.469351
LOCATION:1472 Springs Road\, Lincoln\, Canterbury\, 7674\, New Zealand
END:VEVENT
END:VCALENDAR
